BEGIN:VCALENDAR
VERSION:2.0
PRODID:-//The True Church - ECPv6.15.16//NONSGML v1.0//EN
CALSCALE:GREGORIAN
METHOD:PUBLISH
X-WR-CALNAME:The True Church
X-ORIGINAL-URL:https://thetruechurch.org
X-WR-CALDESC:Events for The True Church
REFRESH-INTERVAL;VALUE=DURATION:PT1H
X-Robots-Tag:noindex
X-PUBLISHED-TTL:PT1H
BEGIN:VTIMEZONE
TZID:America/New_York
BEGIN:DAYLIGHT
TZOFFSETFROM:-0500
TZOFFSETTO:-0400
TZNAME:EDT
DTSTART:20250309T070000
END:DAYLIGHT
BEGIN:STANDARD
TZOFFSETFROM:-0400
TZOFFSETTO:-0500
TZNAME:EST
DTSTART:20251102T060000
END:STANDARD
BEGIN:DAYLIGHT
TZOFFSETFROM:-0500
TZOFFSETTO:-0400
TZNAME:EDT
DTSTART:20260308T070000
END:DAYLIGHT
BEGIN:STANDARD
TZOFFSETFROM:-0400
TZOFFSETTO:-0500
TZNAME:EST
DTSTART:20261101T060000
END:STANDARD
BEGIN:DAYLIGHT
TZOFFSETFROM:-0500
TZOFFSETTO:-0400
TZNAME:EDT
DTSTART:20270314T070000
END:DAYLIGHT
BEGIN:STANDARD
TZOFFSETFROM:-0400
TZOFFSETTO:-0500
TZNAME:EST
DTSTART:20271107T060000
END:STANDARD
END:VTIMEZONE
BEGIN:VEVENT
DTSTART;TZID=America/New_York:20260423T120000
DTEND;TZID=America/New_York:20260423T130000
DTSTAMP:20260423T050706
CREATED:20260328T004418Z
LAST-MODIFIED:20260328T004418Z
UID:9767-1776945600-1776949200@thetruechurch.org
SUMMARY:Lucas Temple Outreach Service at Evolutions
DESCRIPTION:275 Pryor St. SW\n2nd Floor\nAtlanta\, Georgia
URL:https://thetruechurch.org/event/lucas-temple-outreach-service-at-evolutions-2/
LOCATION:GA
ORGANIZER;CN="Web/Digital Team":MAILTO:truechurchmedia2022@gmail.com
END:VEVENT
END:VCALENDAR